View In:
ArcGIS JavaScript
ArcGIS Online Map Viewer
ArcGIS Earth
ArcMap
View Footprint In:
ArcGIS Online Map Viewer
Service Description: 2023_mosaic
Name: 2023_mosaic
Description:
Single Fused Map Cache: false
Extent:
XMin: 5930000
YMin: 2137500
XMax: 6000000
YMax: 2240000
Spatial Reference: PROJCS["NAD83_NSRS_2011_California_zone_1_ftUS",GEOGCS["GCS_NAD_1983_2011",DATUM["D_NAD83_NATIONAL_SPATIAL_REFERENCE_SYSTEM_2011",SPHEROID["GRS_1980",6378137.0,298.257222101]],PRIMEM["Greenwich",0.0],UNIT["Degree",0.0174532925199433]],PROJECTION["Lambert_Conformal_Conic"],PARAMETER["false_easting",6561666.666666667],PARAMETER["false_northing",1640416.666666667],PARAMETER["central_meridian",-122.0],PARAMETER["standard_parallel_1",40.0],PARAMETER["standard_parallel_2",41.66666666666666],PARAMETER["scale_factor",1.0],PARAMETER["latitude_of_origin",39.33333333333334],UNIT["Foot_US",0.3048006096012192]]
Initial Extent:
XMin: 5930000
YMin: 2137500
XMax: 6000000
YMax: 2240000
Spatial Reference: PROJCS["NAD83_NSRS_2011_California_zone_1_ftUS",GEOGCS["GCS_NAD_1983_2011",DATUM["D_NAD83_NATIONAL_SPATIAL_REFERENCE_SYSTEM_2011",SPHEROID["GRS_1980",6378137.0,298.257222101]],PRIMEM["Greenwich",0.0],UNIT["Degree",0.0174532925199433]],PROJECTION["Lambert_Conformal_Conic"],PARAMETER["false_easting",6561666.666666667],PARAMETER["false_northing",1640416.666666667],PARAMETER["central_meridian",-122.0],PARAMETER["standard_parallel_1",40.0],PARAMETER["standard_parallel_2",41.66666666666666],PARAMETER["scale_factor",1.0],PARAMETER["latitude_of_origin",39.33333333333334],UNIT["Foot_US",0.3048006096012192]]
Full Extent:
XMin: 5930000
YMin: 2137500
XMax: 6000000
YMax: 2240000
Spatial Reference: PROJCS["NAD83_NSRS_2011_California_zone_1_ftUS",GEOGCS["GCS_NAD_1983_2011",DATUM["D_NAD83_NATIONAL_SPATIAL_REFERENCE_SYSTEM_2011",SPHEROID["GRS_1980",6378137.0,298.257222101]],PRIMEM["Greenwich",0.0],UNIT["Degree",0.0174532925199433]],PROJECTION["Lambert_Conformal_Conic"],PARAMETER["false_easting",6561666.666666667],PARAMETER["false_northing",1640416.666666667],PARAMETER["central_meridian",-122.0],PARAMETER["standard_parallel_1",40.0],PARAMETER["standard_parallel_2",41.66666666666666],PARAMETER["scale_factor",1.0],PARAMETER["latitude_of_origin",39.33333333333334],UNIT["Foot_US",0.3048006096012192]]
Pixel Size X: 0.125
Pixel Size Y: 0.125
Band Count: 5
Pixel Type: U8
RasterFunction Infos: {"rasterFunctionInfos": [{
"name": "None",
"description": "",
"help": ""
}]}
Mensuration Capabilities: Basic
Has Histograms: true
Has Colormap: false
Has Multi Dimensions : false
Rendering Rule:
Min Scale: 0
Max Scale: 0
Copyright Text:
Service Data Type: esriImageServiceDataTypeGeneric
Min Values: 0, 0, 0, 0, 0
Max Values: 255, 255, 255, 255, 255
Mean Values: 182.07365906131, 186.51180699966, 183.61831094716, 207.11337765873, 253.24540557776
Standard Deviation Values: 91.093676204435, 85.503623199094, 88.944494695608, 68.712271014104, 21.075820105822
Object ID Field:
Fields:
None
Default Mosaic Method: Center
Allowed Mosaic Methods:
SortField:
SortValue: null
Mosaic Operator: First
Default Compression Quality: 75
Default Resampling Method: Bilinear
Max Record Count: null
Max Image Height: 4100
Max Image Width: 15000
Max Download Image Count: null
Max Mosaic Image Count: null
Allow Raster Function: true
Allow Copy: null
Allow Analysis: null
Allow Compute TiePoints: false
Supports Statistics: false
Supports Advanced Queries: false
Use StandardizedQueries: true
Raster Type Infos:
Name: Raster Dataset
Description: Supports all ArcGIS Raster Datasets
Help:
Has Raster Attribute Table: false
Edit Fields Info: null
Ownership Based AccessControl For Rasters: null
Child Resources:
Info
Histograms
Key Properties
Legend
Raster Function Infos
Supported Operations:
Export Image
Identify
Measure
Compute Histograms
Compute Statistics Histograms
Get Samples
Compute Class Statistics
Query Boundary
Compute Pixel Location
Compute Angles
Validate
Project