{
 "currentVersion": 10.91,
 "serviceDescription": "2023_mosaic",
 "name": "2023_mosaic",
 "description": "",
 "extent": {
  "xmin": 5930000,
  "ymin": 2137500,
  "xmax": 6000000,
  "ymax": 2240000,
  "spatialReference": {
   "wkt": "PROJCS[\"NAD83_NSRS_2011_California_zone_1_ftUS\",GEOGCS[\"GCS_NAD_1983_2011\",DATUM[\"D_NAD83_NATIONAL_SPATIAL_REFERENCE_SYSTEM_2011\",SPHEROID[\"GRS_1980\",6378137.0,298.257222101]],PRIMEM[\"Greenwich\",0.0],UNIT[\"Degree\",0.0174532925199433]],PROJECTION[\"Lambert_Conformal_Conic\"],PARAMETER[\"false_easting\",6561666.666666667],PARAMETER[\"false_northing\",1640416.666666667],PARAMETER[\"central_meridian\",-122.0],PARAMETER[\"standard_parallel_1\",40.0],PARAMETER[\"standard_parallel_2\",41.66666666666666],PARAMETER[\"scale_factor\",1.0],PARAMETER[\"latitude_of_origin\",39.33333333333334],UNIT[\"Foot_US\",0.3048006096012192]]"
  }
 },
 "initialExtent": {
  "xmin": 5930000,
  "ymin": 2137500,
  "xmax": 6000000,
  "ymax": 2240000,
  "spatialReference": {
   "wkt": "PROJCS[\"NAD83_NSRS_2011_California_zone_1_ftUS\",GEOGCS[\"GCS_NAD_1983_2011\",DATUM[\"D_NAD83_NATIONAL_SPATIAL_REFERENCE_SYSTEM_2011\",SPHEROID[\"GRS_1980\",6378137.0,298.257222101]],PRIMEM[\"Greenwich\",0.0],UNIT[\"Degree\",0.0174532925199433]],PROJECTION[\"Lambert_Conformal_Conic\"],PARAMETER[\"false_easting\",6561666.666666667],PARAMETER[\"false_northing\",1640416.666666667],PARAMETER[\"central_meridian\",-122.0],PARAMETER[\"standard_parallel_1\",40.0],PARAMETER[\"standard_parallel_2\",41.66666666666666],PARAMETER[\"scale_factor\",1.0],PARAMETER[\"latitude_of_origin\",39.33333333333334],UNIT[\"Foot_US\",0.3048006096012192]]"
  }
 },
 "fullExtent": {
  "xmin": 5930000,
  "ymin": 2137500,
  "xmax": 6000000,
  "ymax": 2240000,
  "spatialReference": {
   "wkt": "PROJCS[\"NAD83_NSRS_2011_California_zone_1_ftUS\",GEOGCS[\"GCS_NAD_1983_2011\",DATUM[\"D_NAD83_NATIONAL_SPATIAL_REFERENCE_SYSTEM_2011\",SPHEROID[\"GRS_1980\",6378137.0,298.257222101]],PRIMEM[\"Greenwich\",0.0],UNIT[\"Degree\",0.0174532925199433]],PROJECTION[\"Lambert_Conformal_Conic\"],PARAMETER[\"false_easting\",6561666.666666667],PARAMETER[\"false_northing\",1640416.666666667],PARAMETER[\"central_meridian\",-122.0],PARAMETER[\"standard_parallel_1\",40.0],PARAMETER[\"standard_parallel_2\",41.66666666666666],PARAMETER[\"scale_factor\",1.0],PARAMETER[\"latitude_of_origin\",39.33333333333334],UNIT[\"Foot_US\",0.3048006096012192]]"
  }
 },
 "pixelSizeX": 0.125,
 "pixelSizeY": 0.125,
 "bandCount": 5,
 "pixelType": "U8",
 "minPixelSize": 0,
 "maxPixelSize": 0,
 "copyrightText": "",
 "serviceDataType": "esriImageServiceDataTypeGeneric",
 "minValues": [
  0,
  0,
  0,
  0,
  0
 ],
 "maxValues": [
  255,
  255,
  255,
  255,
  255
 ],
 "meanValues": [
  182.07365906131,
  186.51180699966,
  183.61831094716,
  207.11337765873,
  253.24540557776
 ],
 "stdvValues": [
  91.093676204435,
  85.503623199094,
  88.944494695608,
  68.712271014104,
  21.075820105822
 ],
 "objectIdField": "",
 "fields": [],
 "capabilities": "Image,Metadata,Mensuration",
 "defaultMosaicMethod": "Center",
 "allowedMosaicMethods": "",
 "sortField": "",
 "sortValue": null,
 "sortAscending": true,
 "mosaicOperator": "First",
 "defaultCompressionQuality": 75,
 "defaultResamplingMethod": "Bilinear",
 "maxImageHeight": 4100,
 "maxImageWidth": 15000,
 "allowRasterFunction": true,
 "rasterFunctionInfos": [
  {
   "name": "None",
   "description": "",
   "help": ""
  }
 ],
 "rasterTypeInfos": [
  {
   "name": "Raster Dataset",
   "description": "Supports all ArcGIS Raster Datasets",
   "help": ""
  }
 ],
 "mensurationCapabilities": "Basic",
 "hasHistograms": true,
 "hasColormap": false,
 "hasRasterAttributeTable": false,
 "minScale": 0,
 "maxScale": 0,
 "exportTilesAllowed": false,
 "hasMultidimensions": false,
 "supportsStatistics": false,
 "supportsAdvancedQueries": false,
 "editFieldsInfo": null,
 "ownershipBasedAccessControlForRasters": null,
 "allowComputeTiePoints": false,
 "useStandardizedQueries": true,
 "advancedQueryCapabilities": {
  "useStandardizedQueries": true,
  "supportsStatistics": false,
  "supportsOrderBy": false,
  "supportsDistinct": false,
  "supportsPagination": false
 },
 "spatialReference": {
  "wkt": "PROJCS[\"NAD83_NSRS_2011_California_zone_1_ftUS\",GEOGCS[\"GCS_NAD_1983_2011\",DATUM[\"D_NAD83_NATIONAL_SPATIAL_REFERENCE_SYSTEM_2011\",SPHEROID[\"GRS_1980\",6378137.0,298.257222101]],PRIMEM[\"Greenwich\",0.0],UNIT[\"Degree\",0.0174532925199433]],PROJECTION[\"Lambert_Conformal_Conic\"],PARAMETER[\"false_easting\",6561666.666666667],PARAMETER[\"false_northing\",1640416.666666667],PARAMETER[\"central_meridian\",-122.0],PARAMETER[\"standard_parallel_1\",40.0],PARAMETER[\"standard_parallel_2\",41.66666666666666],PARAMETER[\"scale_factor\",1.0],PARAMETER[\"latitude_of_origin\",39.33333333333334],UNIT[\"Foot_US\",0.3048006096012192]]"
 }
}
